BEGIN:VCALENDAR
VERSION:2.0
PRODID:-//Tukios.com/
BEGIN:VEVENT
UID:2941ec12-2d10-4232-af20-f5d71eaeef7f@obituaries.clevelandfuneralservices.com
DTSTAMP:20260420T174354Z
DTSTART:20260422
SUMMARY:Burial
DESCRIPTION:
URL:https://obituaries.clevelandfuneralservices.com/obituaries/james-blanton-jr
LOCATION: 1225 College Ave  Shelby NC 28152
GEO:35.246992;-81.635597
END:VEVENT
END:VCALENDAR