BEGIN:VCALENDAR
VERSION:2.0
PRODID:-//Tukios.com/
BEGIN:VEVENT
UID:737f27ab-93ed-4d4c-9632-6a66812a7261@obituaries.clevelandfuneralservices.com
DTSTAMP:20260420T174235Z
DTSTART:20260422T170000Z
DTEND:20260422T180000Z
SUMMARY:Funeral Service
DESCRIPTION:
URL:https://obituaries.clevelandfuneralservices.com/obituaries/james-blanton-jr
LOCATION: 2518 W Dixon Blvd  Shelby NC 28150
GEO:35.2940079;-81.6010224
END:VEVENT
END:VCALENDAR