BEGIN:VCALENDAR
VERSION:2.0
PRODID:-//Tukios.com/
BEGIN:VEVENT
UID:a77d934d-ca2d-4abb-858e-7f8da5372380@obituaries.clevelandfuneralservices.com
DTSTAMP:20260420T174214Z
DTSTART:20260422T160000Z
DTEND:20260422T170000Z
SUMMARY:Visitation
DESCRIPTION:
URL:https://obituaries.clevelandfuneralservices.com/obituaries/james-blanton-jr
LOCATION: 2518 W Dixon Blvd  Shelby NC 28150
GEO:35.2940079;-81.6010224
END:VEVENT
END:VCALENDAR